BEGIN:VCALENDAR
VERSION:2.0
PRODID:-//Calgary Ramada - ECPv6.6.4.2//NONSGML v1.0//EN
CALSCALE:GREGORIAN
METHOD:PUBLISH
X-WR-CALNAME:Calgary Ramada
X-ORIGINAL-URL:https://ramadacalgary.com
X-WR-CALDESC:Events for Calgary Ramada
REFRESH-INTERVAL;VALUE=DURATION:PT1H
X-Robots-Tag:noindex
X-PUBLISHED-TTL:PT1H
BEGIN:VTIMEZONE
TZID:UTC
BEGIN:STANDARD
TZOFFSETFROM:+0000
TZOFFSETTO:+0000
TZNAME:UTC
DTSTART:20170101T000000
END:STANDARD
END:VTIMEZONE
BEGIN:VEVENT
DTSTART;TZID=UTC:20171130T190000
DTEND;TZID=UTC:20171130T210000
DTSTAMP:20260422T133645
CREATED:20171124T190838Z
LAST-MODIFIED:20171124T190838Z
UID:2302-1512068400-1512075600@ramadacalgary.com
SUMMARY:Flames vs Coyotes
DESCRIPTION:
URL:https://ramadacalgary.com/event/flames-vs-coyotes/
CATEGORIES:Flames home games
END:VEVENT
BEGIN:VEVENT
DTSTART;TZID=UTC:20171128T190000
DTEND;TZID=UTC:20171128T210000
DTSTAMP:20260422T133645
CREATED:20171124T190702Z
LAST-MODIFIED:20171124T190711Z
UID:2301-1511895600-1511902800@ramadacalgary.com
SUMMARY:Flames vs Leafs
DESCRIPTION:
URL:https://ramadacalgary.com/event/flames-vs-leafs/
CATEGORIES:Flames home games
END:VEVENT
BEGIN:VEVENT
DTSTART;VALUE=DATE:20171125
DTEND;VALUE=DATE:20180226
DTSTAMP:20260422T133645
CREATED:20171124T190050Z
LAST-MODIFIED:20171128T182940Z
UID:2300-1511568000-1519603199@ramadacalgary.com
SUMMARY:Shop & Sip
DESCRIPTION:Book your Shop & Sip Package today! The Calgary Shopping Package is a shopping and beverage package which includes a rate of $129 for single/double occupancy\, a $75 shopping gift voucher\, and a $20 credit redeemable at the Fox on 6th Lounge or Cheers Restaurant.
URL:https://ramadacalgary.com/event/shop-sip/
LOCATION:Ramada Calgary Downtown\, 708 – 8 Ave. S.W.\, Calgary\, AB\, T2P 1H2\, Canada
CATEGORIES:Shopping
END:VEVENT
END:VCALENDAR